BEGIN:VCALENDAR
VERSION:2.0
PRODID:-//National Federation of Federal Employees - ECPv5.7.0//NONSGML v1.0//EN
CALSCALE:GREGORIAN
METHOD:PUBLISH
X-WR-CALNAME:National Federation of Federal Employees
X-ORIGINAL-URL:https://nffe.org
X-WR-CALDESC:Events for National Federation of Federal Employees
BEGIN:VTIMEZONE
TZID:America/New_York
BEGIN:DAYLIGHT
TZOFFSETFROM:-0500
TZOFFSETTO:-0400
TZNAME:EDT
DTSTART:20200308T070000
END:DAYLIGHT
BEGIN:STANDARD
TZOFFSETFROM:-0400
TZOFFSETTO:-0500
TZNAME:EST
DTSTART:20201101T060000
END:STANDARD
END:VTIMEZONE
BEGIN:VEVENT
DTSTART;TZID=America/New_York:20200419T080000
DTEND;TZID=America/New_York:20200424T170000
DTSTAMP:20210613T134607
CREATED:20200113T133009Z
LAST-MODIFIED:20200113T133009Z
UID:9120-1587283200-1587747600@nffe.org
SUMMARY:Intermediate Web Development
DESCRIPTION:
URL:https://nffe.org/event/intermediate-web-development/
ATTACH;FMTTYPE=image/png:https://nffe.org/wp-content/uploads/2018/12/nffe_thumb_placeholder-150x150.png
END:VEVENT
END:VCALENDAR